BEGIN:VCALENDAR
VERSION:2.0
PRODID:-//ZContent.net//Zap Calendar 1.0//EN
CALSCALE:GREGORIAN
METHOD:PUBLISH
BEGIN:VEVENT
DTSTAMP:20260422T120308
UID:20250226T083000@energyhub.eu/2469
DTSTART:20250226T083000
DTEND:20250226T160000
SUMMARY:Očekávaný vývoj odvětví energetiky v ČR a ve světě – 20. ročník
LOCATION: hotel Quality Hotel Brno Exhibition Centre
DESCRIPTION:Očekávaný vývoj odvětví energetiky v ČR a ve světě – 20. ročník: hotel Quality Hotel Brno Exhibition Centre
LAST-MODIFIED:20260422T120308
END:VEVENT
END:VCALENDAR
