BEGIN:VCALENDAR
VERSION:2.0
PRODID:-//ZContent.net//Zap Calendar 1.0//EN
CALSCALE:GREGORIAN
METHOD:PUBLISH
BEGIN:VEVENT
DTSTAMP:20260423T215155
UID:20220524T150000@energyhub.eu/2265
DTSTART:20220524T150000
DTEND:20220524T230000
SUMMARY:Konference Bioplyn a legislativa 2022
LOCATION: Hotel Akademie Naháč
DESCRIPTION:Konference Bioplyn a legislativa 2022: Hotel Akademie Naháč
LAST-MODIFIED:20260423T215155
END:VEVENT
END:VCALENDAR
