BEGIN:VCALENDAR
VERSION:2.0
PRODID:-//ZContent.net//Zap Calendar 1.0//EN
CALSCALE:GREGORIAN
METHOD:PUBLISH
BEGIN:VEVENT
DTSTAMP:20260426T025810
UID:20220920T100000@energyhub.eu/2204
DTSTART:20220920T100000
DTEND:20220924T180000
SUMMARY:Veletrh FOR ARCH 2022
LOCATION: Praha
DESCRIPTION:Veletrh FOR ARCH 2022: Praha
LAST-MODIFIED:20260426T025810
END:VEVENT
END:VCALENDAR
