BEGIN:VCALENDAR
VERSION:2.0
PRODID:-//ZContent.net//Zap Calendar 1.0//EN
CALSCALE:GREGORIAN
METHOD:PUBLISH
BEGIN:VEVENT
DTSTAMP:20260422T202220
UID:20210611T100000@energyhub.eu/2098
DTSTART:20210611T100000
DTEND:20210611T150000
SUMMARY:Konference Moderní města a regiony: plné nové energie a připravené na změnu klimatu
LOCATION: Online
DESCRIPTION:Konference Moderní města a regiony: plné nové energie a připravené na změnu klimatu: Online
LAST-MODIFIED:20260422T202220
END:VEVENT
END:VCALENDAR
